BEGIN:VCALENDAR
VERSION:2.0
PRODID:-//Oakland History Center at Pine Grove - ECPv6.15.20//NONSGML v1.0//EN
CALSCALE:GREGORIAN
METHOD:PUBLISH
X-ORIGINAL-URL:https://www.ocphs.org
X-WR-CALDESC:Events for Oakland History Center at Pine Grove
REFRESH-INTERVAL;VALUE=DURATION:PT1H
X-Robots-Tag:noindex
X-PUBLISHED-TTL:PT1H
BEGIN:VTIMEZONE
TZID:America/Detroit
BEGIN:DAYLIGHT
TZOFFSETFROM:-0500
TZOFFSETTO:-0400
TZNAME:EDT
DTSTART:20210314T070000
END:DAYLIGHT
BEGIN:STANDARD
TZOFFSETFROM:-0400
TZOFFSETTO:-0500
TZNAME:EST
DTSTART:20211107T060000
END:STANDARD
BEGIN:DAYLIGHT
TZOFFSETFROM:-0500
TZOFFSETTO:-0400
TZNAME:EDT
DTSTART:20220313T070000
END:DAYLIGHT
BEGIN:STANDARD
TZOFFSETFROM:-0400
TZOFFSETTO:-0500
TZNAME:EST
DTSTART:20221106T060000
END:STANDARD
BEGIN:DAYLIGHT
TZOFFSETFROM:-0500
TZOFFSETTO:-0400
TZNAME:EDT
DTSTART:20230312T070000
END:DAYLIGHT
BEGIN:STANDARD
TZOFFSETFROM:-0400
TZOFFSETTO:-0500
TZNAME:EST
DTSTART:20231105T060000
END:STANDARD
END:VTIMEZONE
BEGIN:VEVENT
DTSTART;TZID=America/Detroit:20220918T140000
DTEND;TZID=America/Detroit:20220918T160000
DTSTAMP:20260421T054742
CREATED:20220526T161215Z
LAST-MODIFIED:20220812T141608Z
UID:4990-1663509600-1663516800@www.ocphs.org
SUMMARY:2022 Oak Hill Cemetery Walk
DESCRIPTION:Our Subject: “Back To the Beginning”. \n  \n 
URL:https://www.ocphs.org/event/2022-oak-hill-cemetery-walk/
LOCATION:Oak Hill Cemetery\, 216 University Drive\, Pontiac\, Michigan\, 48341
CATEGORIES:Annual Events,Oak Hill Cemetery
ATTACH;FMTTYPE=image/jpeg:https://www.ocphs.org/wp-content/uploads/2022/05/2022-Cemetery-Walk-flyer.jpg
END:VEVENT
END:VCALENDAR