BEGIN:VCALENDAR
VERSION:2.0
PRODID:-//Oakland History Center at Pine Grove - ECPv6.15.20//NONSGML v1.0//EN
CALSCALE:GREGORIAN
METHOD:PUBLISH
X-ORIGINAL-URL:https://www.ocphs.org
X-WR-CALDESC:Events for Oakland History Center at Pine Grove
REFRESH-INTERVAL;VALUE=DURATION:PT1H
X-Robots-Tag:noindex
X-PUBLISHED-TTL:PT1H
BEGIN:VTIMEZONE
TZID:America/Detroit
BEGIN:DAYLIGHT
TZOFFSETFROM:-0500
TZOFFSETTO:-0400
TZNAME:EDT
DTSTART:20160313T070000
END:DAYLIGHT
BEGIN:STANDARD
TZOFFSETFROM:-0400
TZOFFSETTO:-0500
TZNAME:EST
DTSTART:20161106T060000
END:STANDARD
BEGIN:DAYLIGHT
TZOFFSETFROM:-0500
TZOFFSETTO:-0400
TZNAME:EDT
DTSTART:20170312T070000
END:DAYLIGHT
BEGIN:STANDARD
TZOFFSETFROM:-0400
TZOFFSETTO:-0500
TZNAME:EST
DTSTART:20171105T060000
END:STANDARD
BEGIN:DAYLIGHT
TZOFFSETFROM:-0500
TZOFFSETTO:-0400
TZNAME:EDT
DTSTART:20180311T070000
END:DAYLIGHT
BEGIN:STANDARD
TZOFFSETFROM:-0400
TZOFFSETTO:-0500
TZNAME:EST
DTSTART:20181104T060000
END:STANDARD
BEGIN:DAYLIGHT
TZOFFSETFROM:-0500
TZOFFSETTO:-0400
TZNAME:EDT
DTSTART:20190310T070000
END:DAYLIGHT
BEGIN:STANDARD
TZOFFSETFROM:-0400
TZOFFSETTO:-0500
TZNAME:EST
DTSTART:20191103T060000
END:STANDARD
BEGIN:DAYLIGHT
TZOFFSETFROM:-0500
TZOFFSETTO:-0400
TZNAME:EDT
DTSTART:20200308T070000
END:DAYLIGHT
BEGIN:STANDARD
TZOFFSETFROM:-0400
TZOFFSETTO:-0500
TZNAME:EST
DTSTART:20201101T060000
END:STANDARD
BEGIN:DAYLIGHT
TZOFFSETFROM:-0500
TZOFFSETTO:-0400
TZNAME:EDT
DTSTART:20210314T070000
END:DAYLIGHT
BEGIN:STANDARD
TZOFFSETFROM:-0400
TZOFFSETTO:-0500
TZNAME:EST
DTSTART:20211107T060000
END:STANDARD
END:VTIMEZONE
BEGIN:VEVENT
DTSTART;VALUE=DATE:20201024
DTEND;VALUE=DATE:20201025
DTSTAMP:20260423T170742
CREATED:20191222T172020Z
LAST-MODIFIED:20191222T172020Z
UID:3090-1603497600-1603583999@www.ocphs.org
SUMMARY:OCPHS Downtown Pontiac Ghost Tour
DESCRIPTION:OCPHS Downtown Pontiac Ghost Tour
URL:https://www.ocphs.org/event/ocphs-downtown-pontiac-ghost-tour/
LOCATION:Downtown Pontiac
CATEGORIES:Annual Events,Oakland County Bicentennial
ORGANIZER;CN="Oakland County Pioneer and Historical Society":MAILTO:office@ocphs.org
END:VEVENT
BEGIN:VEVENT
DTSTART;VALUE=DATE:20201017
DTEND;VALUE=DATE:20201018
DTSTAMP:20260423T170742
CREATED:20191222T171818Z
LAST-MODIFIED:20191222T171818Z
UID:3088-1602892800-1602979199@www.ocphs.org
SUMMARY:OCPHS Haunted Museum
DESCRIPTION:OCPHS Haunted Museum
URL:https://www.ocphs.org/event/ocphs-haunted-museum/
LOCATION:Pine Grove\, 405 Cesar E Chavez Ave\, Pontiac\, MI\, 48341\, United States
CATEGORIES:Annual Events
ORGANIZER;CN="Oakland County Pioneer and Historical Society":MAILTO:office@ocphs.org
END:VEVENT
BEGIN:VEVENT
DTSTART;VALUE=DATE:20201003
DTEND;VALUE=DATE:20201004
DTSTAMP:20260423T170742
CREATED:20191222T171552Z
LAST-MODIFIED:20191222T171553Z
UID:3084-1601683200-1601769599@www.ocphs.org
SUMMARY:OCPHS Bicentennial Gala
DESCRIPTION:OCPHS Bicentennial Gala
URL:https://www.ocphs.org/event/ocphs-bicentennial-gala/
LOCATION:Oakland County Pioneer and Historical Society\, 405 Cesar E Chavez\, Pontiac\, MI\, 48341\, United States
CATEGORIES:Annual Events,Oakland County Bicentennial
ORGANIZER;CN="Oakland County Pioneer and Historical Society":MAILTO:office@ocphs.org
END:VEVENT
BEGIN:VEVENT
DTSTART;VALUE=DATE:20200920
DTEND;VALUE=DATE:20200921
DTSTAMP:20260423T170742
CREATED:20191222T171148Z
LAST-MODIFIED:20191222T171436Z
UID:3080-1600560000-1600646399@www.ocphs.org
SUMMARY:Oak Hill Cemetery Walk
DESCRIPTION:Oak Hill Cemetery Walk \nDetails forthcoming
URL:https://www.ocphs.org/event/oak-hill-cemetery-walk/
LOCATION:Oak Hill Cemetery\, 216 University Drive\, Pontiac\, Michigan\, 48341
CATEGORIES:Annual Events,Oakland County Bicentennial
ORGANIZER;CN="Oakland County Pioneer and Historical Society":MAILTO:office@ocphs.org
END:VEVENT
BEGIN:VEVENT
DTSTART;TZID=America/Detroit:20200725T120000
DTEND;TZID=America/Detroit:20200726T160000
DTSTAMP:20260423T170742
CREATED:20200715T122209Z
LAST-MODIFIED:20200715T122210Z
UID:4140-1595678400-1595779200@www.ocphs.org
SUMMARY:2020 Ice Cream Social - Bicentennial Edition!
DESCRIPTION:Celebrate Oakland County’s 200th birthday with a Drive Through Extravaganza! \nCome to our campus – enter via Wisner Stadium entrance – and experience: \nFree Ice Cream • Live Music • Animals • Pontiac Transportation Museum Classic Car Show • Historic Displays • and More!  \nCall or text (248) 410-0702 to get the details! \nThis is a drive – through\, socially distant event. Enter via the Wisner Stadium entrance on Cesar Chavez and drive through our campus looping a little and stopping along the way for treats\, music\, visual fun\, and historic displays\, exiting the campus through the southern exit.  \nCelebrate Oakland County’s 200th Birthday with us! \n 
URL:https://www.ocphs.org/event/2020-ice-cream-social-bicentennial-edition/
LOCATION:Oakland History Center at Pine Grove\, 405 Cesar Chavez Avenue\, Pontiac\, MI\, 48341\, United States
CATEGORIES:Annual Events
ATTACH;FMTTYPE=image/jpeg:https://www.ocphs.org/wp-content/uploads/2020/07/2020-social.jpg
ORGANIZER;CN="Oakland County Pioneer and Historical Society":MAILTO:office@ocphs.org
END:VEVENT
BEGIN:VEVENT
DTSTART;VALUE=DATE:20200725
DTEND;VALUE=DATE:20200726
DTSTAMP:20260423T170742
CREATED:20191222T170620Z
LAST-MODIFIED:20191222T170620Z
UID:3074-1595635200-1595721599@www.ocphs.org
SUMMARY:OCPHS Bicentennial Summer Social & Landmark Dedication
DESCRIPTION:OCPHS Bicentennial Summer Social & Landmark Dedication\nDetails coming soon.
URL:https://www.ocphs.org/event/ocphs-bicentennial-summer-social-landmark-dedication/
LOCATION:Pine Grove\, 405 Cesar E Chavez Ave\, Pontiac\, MI\, 48341\, United States
CATEGORIES:Annual Events,Oakland County Bicentennial
ORGANIZER;CN="Oakland County Pioneer and Historical Society":MAILTO:office@ocphs.org
END:VEVENT
BEGIN:VEVENT
DTSTART;VALUE=DATE:20200516
DTEND;VALUE=DATE:20200517
DTSTAMP:20260423T170742
CREATED:20191222T154919Z
LAST-MODIFIED:20191222T154919Z
UID:3041-1589587200-1589673599@www.ocphs.org
SUMMARY:OCPHS Annual Meeting
DESCRIPTION:OCPHS Annual Meeting
URL:https://www.ocphs.org/event/ocphs-annual-meeting/
LOCATION:OCPHS Carriage House\, 405 Cesar E Chavez Ave\, Pontiac\, MI\, 48341\, United States
CATEGORIES:Annual Events,Board Meetings
ATTACH;FMTTYPE=image/jpeg:https://www.ocphs.org/wp-content/uploads/2019/11/img025.jpg
ORGANIZER;CN="OCPHS Staff":MAILTO:office@ocphs.org
END:VEVENT
BEGIN:VEVENT
DTSTART;TZID=America/Detroit:20191220T110000
DTEND;TZID=America/Detroit:20191220T160000
DTSTAMP:20260423T170742
CREATED:20191004T164923Z
LAST-MODIFIED:20191004T164923Z
UID:2484-1576839600-1576857600@www.ocphs.org
SUMMARY:Historical Society Holiday Party
DESCRIPTION:Historical Society Holiday Party \n  \nMore details to follow\, but please check our facebook page for the most recent updates.
URL:https://www.ocphs.org/event/historical-society-holiday-party/
LOCATION:OCPHS Carriage House\, 405 Cesar E Chavez Ave\, Pontiac\, MI\, 48341\, United States
CATEGORIES:Annual Events
ORGANIZER;CN="OCPHS Staff":MAILTO:office@ocphs.org
END:VEVENT
BEGIN:VEVENT
DTSTART;VALUE=DATE:20191208
DTEND;VALUE=DATE:20191209
DTSTAMP:20260423T170742
CREATED:20191004T164809Z
LAST-MODIFIED:20191108T125024Z
UID:2482-1575763200-1575849599@www.ocphs.org
SUMMARY:Victorian Christmas Open House at Pine Grove
DESCRIPTION:Join us for the annual Victorian Christmas Open House at Pine Grove. \n  \nMore details to follow\, but please check our facebook page for the most recent updates.
URL:https://www.ocphs.org/event/victorian-christmas-open-house-at-pine-grove/
LOCATION:Pine Grove\, 405 Cesar E Chavez Ave\, Pontiac\, MI\, 48341\, United States
CATEGORIES:Annual Events
ORGANIZER;CN="OCPHS Staff":MAILTO:office@ocphs.org
END:VEVENT
BEGIN:VEVENT
DTSTART;VALUE=DATE:20191207
DTEND;VALUE=DATE:20191208
DTSTAMP:20260423T170742
CREATED:20191004T164648Z
LAST-MODIFIED:20191004T164648Z
UID:2480-1575676800-1575763199@www.ocphs.org
SUMMARY:Holiday Extravaganza Parade\, Downtown Pontiac
DESCRIPTION:Join us as we march in the Holiday Extravaganza Parade in Downtown Pontiac! \n  \nMore details to follow\, but please check our facebook page for the most recent updates.
URL:https://www.ocphs.org/event/holiday-extravaganza-parade-downtown-pontiac/
LOCATION:Downtown Pontiac\, Pontiac\, MI\, 48341\, United States
CATEGORIES:Annual Events
END:VEVENT
BEGIN:VEVENT
DTSTART;VALUE=DATE:20191130
DTEND;VALUE=DATE:20191201
DTSTAMP:20260423T170742
CREATED:20191004T164522Z
LAST-MODIFIED:20191004T164522Z
UID:2478-1575072000-1575158399@www.ocphs.org
SUMMARY:Holiday Popup Market Opens + Hanging of the Greens
DESCRIPTION:Holiday Popup Market Opens + Hanging of the Greens at Pine Grove. \n  \nMore details to follow\, but please check our facebook page for the most recent updates.
URL:https://www.ocphs.org/event/holiday-popup-market-opens-hanging-of-the-greens/
LOCATION:Pine Grove\, 405 Cesar E Chavez Ave\, Pontiac\, MI\, 48341\, United States
CATEGORIES:Annual Events
ORGANIZER;CN="OCPHS Staff":MAILTO:office@ocphs.org
END:VEVENT
BEGIN:VEVENT
DTSTART;TZID=America/Detroit:20191102T180000
DTEND;TZID=America/Detroit:20191102T210000
DTSTAMP:20260423T170742
CREATED:20191004T162939Z
LAST-MODIFIED:20191015T225114Z
UID:2461-1572717600-1572728400@www.ocphs.org
SUMMARY:Society Gala and Silent Auction (at Wisner School)
DESCRIPTION:Save the date event of the season! \nOur Historical Society Gala & Auction is happening November 2nd at the historic Wisner School. \nTickets are $40 per person\, or $70 per couple. Purchase tickets here. \nIt will feature a strolling dinner\, silent auction\, and live auction. \nWe are currently accepting program advertisements and auction donations! \nGet tickets to the event
URL:https://www.ocphs.org/event/society-gala-and-silent-auction-at-wisner-school/
LOCATION:Wisner School\, 441 Cesar E Chavez\, Pontiac\, MI\, 48342\, United States
CATEGORIES:Annual Events
ATTACH;FMTTYPE=image/jpeg:https://www.ocphs.org/wp-content/uploads/2019/10/Gala-Flyer.jpg
ORGANIZER;CN="OCPHS Staff":MAILTO:office@ocphs.org
END:VEVENT
BEGIN:VEVENT
DTSTART;TZID=America/Detroit:20191019T190000
DTEND;TZID=America/Detroit:20191019T220000
DTSTAMP:20260423T170742
CREATED:20191004T161329Z
LAST-MODIFIED:20191004T161330Z
UID:2452-1571511600-1571522400@www.ocphs.org
SUMMARY:Haunted Museum Costume Party: Karpinski & McGuinness 8th Soiree
DESCRIPTION:Join us for our annual Karpinski & McGuinness Halloween celebration! \nThis year will be at the Historical Society\, both indoors and outdoors and family friendly. Free admission and free onsite parking. \nCostumes are optional\, but a good time is mandatory! If you’re willing please bring a dish to pass and a contribution for the Historical Society. \nThis is a great time during the dynamic Hauntiac season.
URL:https://www.ocphs.org/event/haunted-museum-costume-party-karpinski-mcguinness-8th-soiree/
LOCATION:Pine Grove\, 405 Cesar E Chavez Ave\, Pontiac\, MI\, 48341\, United States
CATEGORIES:Annual Events,Grounds Events
ATTACH;FMTTYPE=image/jpeg:https://www.ocphs.org/wp-content/uploads/2019/10/halloween-party.jpg
END:VEVENT
BEGIN:VEVENT
DTSTART;TZID=America/Detroit:20190922T140000
DTEND;TZID=America/Detroit:20190922T160000
DTSTAMP:20260423T170742
CREATED:20190824T161929Z
LAST-MODIFIED:20190829T222246Z
UID:2372-1569160800-1569168000@www.ocphs.org
SUMMARY:Oak Hill Cemetery Walk - From the Cook Book to the Courthouse
DESCRIPTION:Join us as we celebrate the Suffrage Movement of the early 20th century with an interpretive walk through Oak HIll Cemetery. \nMeet us at Pine Grove and the Wisner Mansion for free parking and shuttle service to the cemetery. \nPlease pre-register! Call 248-338-6732 for tickets and information\, or click here to register and purchase tickets: https://getlocalhop.com/oak-hill-cemetery-walk/event/qMr5ol6Wpz/ \nComfortable walking shoes recommended \nNot recommended for children under 12 years of age. \nProceeds benefit restoration efforts at Oak Hill Cemetery. \n  \n 
URL:https://www.ocphs.org/event/oak-hill-cemetery-walk-from-the-cook-book-to-the-courthouse/
LOCATION:Oak Hill Cemetery\, 216 University Drive\, Pontiac\, Michigan\, 48341
CATEGORIES:Annual Events,Tour
ATTACH;FMTTYPE=image/jpeg:https://www.ocphs.org/wp-content/uploads/2019/08/2019-Oak-Hill-Walk-flyer.jpg
ORGANIZER;CN="OCPHS Staff":MAILTO:office@ocphs.org
END:VEVENT
BEGIN:VEVENT
DTSTART;TZID=America/Detroit:20190727T110000
DTEND;TZID=America/Detroit:20190727T170000
DTSTAMP:20260423T170742
CREATED:20190611T154621Z
LAST-MODIFIED:20190611T154932Z
UID:2284-1564225200-1564246800@www.ocphs.org
SUMMARY:Pioneer Reunion and Social
DESCRIPTION:Join us as we celebrate the pioneers and early settlers of Oakland County at our annual summer event\, this year called the “Pioneer Reunion and Social”. \nOther cool news: FREE ADMISSION this year! Thanks to a generous donation\, guests are invited to come participate in the Reunion with no admission cost (although any sales on the campus are of course not free). \nPlease bring your friends and family!
URL:https://www.ocphs.org/event/pioneer-reunion-and-social/
LOCATION:Pine Grove\, 405 Cesar E Chavez Ave\, Pontiac\, MI\, 48341\, United States
CATEGORIES:Annual Events
ATTACH;FMTTYPE=image/jpeg:https://www.ocphs.org/wp-content/uploads/2019/06/Hat-and-banner.jpg
ORGANIZER;CN="OCPHS Staff":MAILTO:office@ocphs.org
END:VEVENT
BEGIN:VEVENT
DTSTART;TZID=America/Detroit:20190213T180000
DTEND;TZID=America/Detroit:20190213T200000
DTSTAMP:20260423T170742
CREATED:20190123T142410Z
LAST-MODIFIED:20190123T142410Z
UID:2154-1550080800-1550088000@www.ocphs.org
SUMMARY:OCPHS Appreciation Reception
DESCRIPTION:Oakland County Pioneer & Historical Society is the steward of the estate of Pine Grove. This commitment is accomplished through the efforts of a dedicated group of volunteers and friends. Come join us for an evening to show you our appreciation of your support! Thank you!
URL:https://www.ocphs.org/event/ocphs-appreciation-reception/
LOCATION:OCPHS Carriage House\, 405 Cesar E Chavez Ave\, Pontiac\, MI\, 48341\, United States
CATEGORIES:Annual Events
ATTACH;FMTTYPE=image/jpeg:https://www.ocphs.org/wp-content/uploads/2019/01/Appr-Recept.jpg
ORGANIZER;CN="OCPHS Staff":MAILTO:office@ocphs.org
END:VEVENT
BEGIN:VEVENT
DTSTART;TZID=America/Detroit:20181222T130000
DTEND;TZID=America/Detroit:20181222T160000
DTSTAMP:20260423T170742
CREATED:20181130T133236Z
LAST-MODIFIED:20181130T133236Z
UID:2114-1545483600-1545494400@www.ocphs.org
SUMMARY:Free Children's Holiday Party in the Schoolhouse!
DESCRIPTION:Join us as we host a free Holiday Party for kids in our schoolhouse!
URL:https://www.ocphs.org/event/free-childrens-holiday-party-in-the-schoolhouse/
LOCATION:Oakland History Center Drayton Plains Schoolhouse\, 405 Cesar E Chavez\, Pontiac\, MI\, 48342\, United States
CATEGORIES:Annual Events
ATTACH;FMTTYPE=image/jpeg:https://www.ocphs.org/wp-content/uploads/2018/11/2018-Holiday-Party-flyer.jpg
ORGANIZER;CN="OCPHS Staff":MAILTO:office@ocphs.org
END:VEVENT
BEGIN:VEVENT
DTSTART;TZID=America/Detroit:20181216T130000
DTEND;TZID=America/Detroit:20181216T160000
DTSTAMP:20260423T170742
CREATED:20181116T140920Z
LAST-MODIFIED:20181116T140920Z
UID:2061-1544965200-1544976000@www.ocphs.org
SUMMARY:Wisner Mansion Tour Day
DESCRIPTION:Visit the Wisner Mansion all decked out in Victorian Holiday splendor!
URL:https://www.ocphs.org/event/wisner-mansion-tour-day-2/
LOCATION:Pine Grove\, 405 Cesar E Chavez Ave\, Pontiac\, MI\, 48341\, United States
CATEGORIES:Annual Events
ORGANIZER;CN="OCPHS Staff":MAILTO:office@ocphs.org
END:VEVENT
BEGIN:VEVENT
DTSTART;TZID=America/Detroit:20181215T130000
DTEND;TZID=America/Detroit:20181215T160000
DTSTAMP:20260423T170742
CREATED:20181130T133009Z
LAST-MODIFIED:20181130T133009Z
UID:2112-1544878800-1544889600@www.ocphs.org
SUMMARY:Children's Holiday Workshop in the Schoolhouse
DESCRIPTION:Join us as we host a Holiday Workshop in the Schoolhouse! Make ornaments\, learn a little history\, have a lot of fun!
URL:https://www.ocphs.org/event/childrens-holiday-workshop-in-the-schoolhouse-2/
LOCATION:Oakland History Center Drayton Plains Schoolhouse\, 405 Cesar E Chavez\, Pontiac\, MI\, 48342\, United States
CATEGORIES:Annual Events
ORGANIZER;CN="OCPHS Staff":MAILTO:office@ocphs.org
END:VEVENT
BEGIN:VEVENT
DTSTART;TZID=America/Detroit:20181209T130000
DTEND;TZID=America/Detroit:20181209T160000
DTSTAMP:20260423T170742
CREATED:20181116T140812Z
LAST-MODIFIED:20181116T140813Z
UID:2059-1544360400-1544371200@www.ocphs.org
SUMMARY:Wisner Mansion Tour Day
DESCRIPTION:Visit the Wisner Mansion all decked out in Victorian Holiday splendor!
URL:https://www.ocphs.org/event/wisner-mansion-tour-day/
LOCATION:Pine Grove\, 405 Cesar E Chavez Ave\, Pontiac\, MI\, 48341\, United States
CATEGORIES:Annual Events
ORGANIZER;CN="OCPHS Staff":MAILTO:office@ocphs.org
END:VEVENT
BEGIN:VEVENT
DTSTART;TZID=America/Detroit:20181208T130000
DTEND;TZID=America/Detroit:20181208T160000
DTSTAMP:20260423T170742
CREATED:20181130T132744Z
LAST-MODIFIED:20181130T132744Z
UID:2108-1544274000-1544284800@www.ocphs.org
SUMMARY:Children's Holiday Workshop - In the Schoolhouse
DESCRIPTION:Join us as we host a Holiday Workshop in the Schoolhouse! Make ornaments\, learn a little history\, have a lot of fun! \n  \n 
URL:https://www.ocphs.org/event/childrens-holiday-workshop-in-the-schoolhouse/
LOCATION:Oakland History Center Drayton Plains Schoolhouse\, 405 Cesar E Chavez\, Pontiac\, MI\, 48342\, United States
CATEGORIES:Annual Events
ATTACH;FMTTYPE=image/jpeg:https://www.ocphs.org/wp-content/uploads/2018/11/2018-Holiday-Party-flyer.jpg
ORGANIZER;CN="OCPHS Staff":MAILTO:office@ocphs.org
END:VEVENT
BEGIN:VEVENT
DTSTART;TZID=America/Detroit:20181202T130000
DTEND;TZID=America/Detroit:20181202T160000
DTSTAMP:20260423T170742
CREATED:20181116T135637Z
LAST-MODIFIED:20181116T135638Z
UID:2053-1543755600-1543766400@www.ocphs.org
SUMMARY:Victorian Open House
DESCRIPTION:A Wisner Family Celebration \n\nWhen: Sunday\, December 2\, 2018 from 1 to 4 PM \nat  \nPine Grove \n405 Cesar E Chavez \nPontiac\, MI 48342 \n\nAdmission: $7 per person\, $15 per family of 5. \n\nTour Governor Moses Wisner’s home all decked out in Victorian splendor! \n\nVisit with Good Old St. Nick\, enjoy music\, carols\, cocoa and cookies \nPrivate Tours of the Wisner Mansion – December 9th and 16th from 1 to 4 PM! \n\nEnter a drawing to win a holiday quilt! \nTo find out how to win\, see one of us at the Victorian Open House! \n\n\nCome visit your hometown museum!
URL:https://www.ocphs.org/event/victorian-open-house/
LOCATION:Pine Grove\, 405 Cesar E Chavez Ave\, Pontiac\, MI\, 48341\, United States
CATEGORIES:Annual Events
ATTACH;FMTTYPE=image/jpeg:https://www.ocphs.org/wp-content/uploads/2018/11/2018-VOH-extended-flyer.jpg
ORGANIZER;CN="OCPHS Staff":MAILTO:office@ocphs.org
END:VEVENT
BEGIN:VEVENT
DTSTART;VALUE=DATE:20181201
DTEND;VALUE=DATE:20181202
DTSTAMP:20260423T170742
CREATED:20181116T140207Z
LAST-MODIFIED:20181116T140622Z
UID:2055-1543622400-1543708799@www.ocphs.org
SUMMARY:Holiday Extravaganza Parade and WinterFUN Festival
DESCRIPTION:Who doesn’t love a parade? Or a winter festival? \nA FREE winter festival and parade in downtown Pontiac\, Michigan! Bring the whole family down! \n  \nIncluding a historic trolley tour of Pontiac’s historic buildings!
URL:https://www.ocphs.org/event/holiday-extravaganza-parade-and-winterfun-festival/
LOCATION:Downtown Pontiac\, Pontiac\, MI\, 48341\, United States
CATEGORIES:Annual Events,Cross Promotion
ATTACH;FMTTYPE=image/png:https://www.ocphs.org/wp-content/uploads/2018/11/HE_Main_Logo-2-1.png
END:VEVENT
BEGIN:VEVENT
DTSTART;TZID=America/Detroit:20181020T180000
DTEND;TZID=America/Detroit:20181020T200000
DTSTAMP:20260423T170742
CREATED:20181003T112031Z
LAST-MODIFIED:20181003T112031Z
UID:2017-1540058400-1540065600@www.ocphs.org
SUMMARY:The Haunted Mansion at Pine Grove
DESCRIPTION:  \nA family friendly tour of 19th century customs\, featuring the ghosts of the Wisner family and friends telling their stories. \nChildren’s crafts and light refreshments served in the Schoolhouse after your tour. \nTickets: $10.00 per person\, sold in the Gift Shop.
URL:https://www.ocphs.org/event/the-haunted-mansion-at-pine-grove/
LOCATION:Pine Grove\, 405 Cesar E Chavez Ave\, Pontiac\, MI\, 48341\, United States
CATEGORIES:Annual Events
ATTACH;FMTTYPE=image/jpeg:https://www.ocphs.org/wp-content/uploads/2018/10/Haunted-Mansion-2018.jpg
ORGANIZER;CN="OCPHS Staff":MAILTO:office@ocphs.org
END:VEVENT
BEGIN:VEVENT
DTSTART;TZID=America/Detroit:20181005T180000
DTEND;TZID=America/Detroit:20181005T220000
DTSTAMP:20260423T170742
CREATED:20180830T160620Z
LAST-MODIFIED:20180830T160732Z
UID:1892-1538762400-1538776800@www.ocphs.org
SUMMARY:5th Annual Dinner and Auction: Saddle Up!
DESCRIPTION:Saddle Up! \n. A Dinner & Auction to benefit Oakland County Pioneer & Historical Society\, Pine Grove Historical Museum and the Wisner House. \nWhen: \nFriday\, October 5\, 2018 6 P.M. – 10 p.m. \nWhere: \nLafayette Grande Banquet Facility\n1 Lafayette\, Downtown Pontiac \nBuffet Dinner/Cash Bar \nLive & Silent Auctions \n\nTickets: \n$40 per person\n(Hurry: Only $35 if purchased by Sep. 21!) \nClick here to purchase through our online store. Your tickets will be available at the door. If you would like them mailed to you in advance\, please contact our office. \n$40.00 $35.00Add to cart   \nTheme: \nLasso your friends for a rootin’ tootin’ good time as we celebrate westward expansion into Oakland County 200 years ago! \n“Western” attire encouraged but not required! \n\nDonations \nDo you have items you’d like to donate to the auctions? \nWe are also looking for sponsors! \nFor information on donating items or sponsoring this wonderful evening\,  \ncontact the office! \n\nFor more information\, contact OCPHS:\n248-338-6732 / www.ocphs.org / office@ocphs.org \nOCPHS is a 501(c)3 non-profit organization dedicated to\npreserving and conveying Oakland County’s history\nDonations are tax-deductible in accordance with applicable law\nTax ID #38-1846291 MICS #7467
URL:https://www.ocphs.org/event/5th-annual-dinner-and-auction-saddle-up/
LOCATION:Lafayette Grande Ballroom\, 1 Lafayette Street\, Pontiac\, MI\, 48342\, United States
CATEGORIES:Annual Events
ORGANIZER;CN="OCPHS Staff":MAILTO:office@ocphs.org
END:VEVENT
BEGIN:VEVENT
DTSTART;TZID=America/Detroit:20180728T110000
DTEND;TZID=America/Detroit:20180728T170000
DTSTAMP:20260423T170742
CREATED:20180601T154557Z
LAST-MODIFIED:20180601T155044Z
UID:1652-1532775600-1532797200@www.ocphs.org
SUMMARY:2018 Annual Ice Cream Social
DESCRIPTION:Save the Date! \nSaturday July 28\,2018\, 11am to 5 pm. \nFun for the whole Family – details to follow! \n$7 per person – $15 for a family of 5
URL:https://www.ocphs.org/event/2018-annual-ice-cream-social/
LOCATION:Pine Grove\, 405 Cesar E Chavez Ave\, Pontiac\, MI\, 48341\, United States
CATEGORIES:Annual Events
ATTACH;FMTTYPE=image/jpeg:https://www.ocphs.org/wp-content/uploads/2018/06/ICS-Splash.jpg
ORGANIZER;CN="OCPHS Staff":MAILTO:office@ocphs.org
END:VEVENT
BEGIN:VEVENT
DTSTART;TZID=America/Detroit:20180519T093000
DTEND;TZID=America/Detroit:20180519T113000
DTSTAMP:20260423T170742
CREATED:20180509T120043Z
LAST-MODIFIED:20180509T120321Z
UID:1627-1526722200-1526729400@www.ocphs.org
SUMMARY:2018 Annual Meeting
DESCRIPTION:All members are welcome to join us at our Annual Meeting\, being held in the Carriage House. Join us for breakfast snacks\, board elections\, some changes to our bylaws\, and other horsepuckey.
URL:https://www.ocphs.org/event/2018-annual-meeting/
LOCATION:OCPHS Carriage House\, 405 Cesar E Chavez Ave\, Pontiac\, MI\, 48341\, United States
CATEGORIES:Annual Events,Board Meetings
ATTACH;FMTTYPE=image/jpeg:https://www.ocphs.org/wp-content/uploads/2018/05/battle.jpg
END:VEVENT
BEGIN:VEVENT
DTSTART;TZID=America/Detroit:20180207T180000
DTEND;TZID=America/Detroit:20180207T200000
DTSTAMP:20260423T170743
CREATED:20180128T165429Z
LAST-MODIFIED:20180128T165429Z
UID:1221-1518026400-1518033600@www.ocphs.org
SUMMARY:2018 Appreciation Reception
DESCRIPTION:Please make plans to join us for our 2018 Appreciation Reception. This is our chance to say a big thank you to all of our sponsors\, volunteers\, and members for their part in making 2017 a successful year. \nLight refreshments will be served open house style in the Carriage House. \nCome for a few minutes or stay for the duration. We look forward to spending the evening with you.
URL:https://www.ocphs.org/event/2018-appreciation-reception/
LOCATION:OCPHS Carriage House\, 405 Cesar E Chavez Ave\, Pontiac\, MI\, 48341\, United States
CATEGORIES:Annual Events
ORGANIZER;CN="OCPHS Staff":MAILTO:office@ocphs.org
END:VEVENT
BEGIN:VEVENT
DTSTART;TZID=America/Detroit:20171222T080000
DTEND;TZID=America/Detroit:20180101T160000
DTSTAMP:20260423T170743
CREATED:20171221T153918Z
LAST-MODIFIED:20180102T121540Z
UID:1159-1513929600-1514822400@www.ocphs.org
SUMMARY:Pine Grove Closed - Christmas Week!
DESCRIPTION:All of us here at Pine Grove\, home of the Oakland County Pioneer & Historical Society\, wish you a joyous Holiday Season and a prosperous New Year! \nWe will be closed Christmas week to celebrate with our families. We hope to see you again to start the new year when we resume regular business hours on January 2\, 2018! \nThank you for your Support!
URL:https://www.ocphs.org/event/pine-grove-closed-christmas-week/
LOCATION:MI
CATEGORIES:Annual Events
END:VEVENT
BEGIN:VEVENT
DTSTART;TZID=America/Detroit:20171203T130000
DTEND;TZID=America/Detroit:20171203T160000
DTSTAMP:20260423T170743
CREATED:20170610T114856Z
LAST-MODIFIED:20171120T160546Z
UID:297-1512306000-1512316800@www.ocphs.org
SUMMARY:Victorian Open House
DESCRIPTION:Our annual Victorian Open House is a major fundraiser for us\, and a wonderful Holiday season event. See this page for details!
URL:https://www.ocphs.org/event/victorian-christmas-open-house/
LOCATION:Pine Grove\, 405 Cesar E Chavez Ave\, Pontiac\, MI\, 48341\, United States
CATEGORIES:Annual Events
ATTACH;FMTTYPE=image/jpeg:https://www.ocphs.org/wp-content/uploads/2017/11/VOH-banner.jpg
ORGANIZER;CN="OCPHS Staff":MAILTO:office@ocphs.org
END:VEVENT
END:VCALENDAR