BEGIN:VCALENDAR
VERSION:2.0
PRODID:-//Oakland History Center at Pine Grove - ECPv6.15.20//NONSGML v1.0//EN
CALSCALE:GREGORIAN
METHOD:PUBLISH
X-WR-CALNAME:Oakland History Center at Pine Grove
X-ORIGINAL-URL:https://www.ocphs.org
X-WR-CALDESC:Events for Oakland History Center at Pine Grove
REFRESH-INTERVAL;VALUE=DURATION:PT1H
X-Robots-Tag:noindex
X-PUBLISHED-TTL:PT1H
BEGIN:VTIMEZONE
TZID:America/Detroit
BEGIN:DAYLIGHT
TZOFFSETFROM:-0500
TZOFFSETTO:-0400
TZNAME:EDT
DTSTART:20160313T070000
END:DAYLIGHT
BEGIN:STANDARD
TZOFFSETFROM:-0400
TZOFFSETTO:-0500
TZNAME:EST
DTSTART:20161106T060000
END:STANDARD
BEGIN:DAYLIGHT
TZOFFSETFROM:-0500
TZOFFSETTO:-0400
TZNAME:EDT
DTSTART:20170312T070000
END:DAYLIGHT
BEGIN:STANDARD
TZOFFSETFROM:-0400
TZOFFSETTO:-0500
TZNAME:EST
DTSTART:20171105T060000
END:STANDARD
BEGIN:DAYLIGHT
TZOFFSETFROM:-0500
TZOFFSETTO:-0400
TZNAME:EDT
DTSTART:20180311T070000
END:DAYLIGHT
BEGIN:STANDARD
TZOFFSETFROM:-0400
TZOFFSETTO:-0500
TZNAME:EST
DTSTART:20181104T060000
END:STANDARD
END:VTIMEZONE
BEGIN:VEVENT
DTSTART;TZID=America/Detroit:20171202T080000
DTEND;TZID=America/Detroit:20171202T150000
DTSTAMP:20260423T211110
CREATED:20170701T164845Z
LAST-MODIFIED:20171014T152026Z
UID:458-1512201600-1512226800@www.ocphs.org
SUMMARY:Pontiac Holiday Extravaganza Parade
DESCRIPTION:Who doesn’t love a parade? \nA FREE winter festival and parade in downtown Pontiac\, Michigan! Bring the whole family down for free horse drawn wagon rides\, hot cocoa\, smores\, kid’s crafts and MUCH MORE!
URL:https://www.ocphs.org/event/pontiac-holiday-extravaganza-parade/
LOCATION:Downtown Pontiac\, Pontiac\, MI\, 48341\, United States
CATEGORIES:Annual Events
END:VEVENT
BEGIN:VEVENT
DTSTART;TZID=America/Detroit:20171021T180000
DTEND;TZID=America/Detroit:20171021T200000
DTSTAMP:20260423T211110
CREATED:20170701T164324Z
LAST-MODIFIED:20171012T112542Z
UID:455-1508608800-1508616000@www.ocphs.org
SUMMARY:Haunted Mansion at Pine Grove
DESCRIPTION:A Family friendly tour of 19th Century customs. Children’s Crafts and light refreshments served in the Schoolhouse after your tour. \n  \nTickets available in the Gift Shop.
URL:https://www.ocphs.org/event/haunted-mansion-at-pine-grove/
LOCATION:Pine Grove\, 405 Cesar E Chavez Ave\, Pontiac\, MI\, 48341\, United States
CATEGORIES:Annual Events
ATTACH;FMTTYPE=image/jpeg:https://www.ocphs.org/wp-content/uploads/2017/09/bat-grande.jpg
ORGANIZER;CN="OCPHS Staff":MAILTO:office@ocphs.org
END:VEVENT
BEGIN:VEVENT
DTSTART;TZID=America/Detroit:20171007T180000
DTEND;TZID=America/Detroit:20171007T220000
DTSTAMP:20260423T211110
CREATED:20170610T114424Z
LAST-MODIFIED:20170922T143659Z
UID:290-1507399200-1507413600@www.ocphs.org
SUMMARY:4th Annual Grande Night to Remember (Fall Auction)
DESCRIPTION:6 – 10 p.m. Saturday\, October 7\, 2017 – It’s a Black and White Bash! \nOur 4th annual Grande Night to Remember takes place at the Lafayette Grande Banquet Facility in downtown Pontiac. \nTickets are $35 each and include live & silent auction and buffet dinner (cash bar). \nTickets: \n$35 per person\n(Hurry: Only $30 if purchased by Sep. 22!) \nClick here to purchase through our online store. Your tickets will be available at the door. If you would like them mailed to you in advance\, please contact our office. \n$40.00Add to cart
URL:https://www.ocphs.org/event/4th-annual-grande-night-to-remember-fall-auction/
LOCATION:Lafayette Grande Ballroom\, 1 Lafayette Street\, Pontiac\, MI\, 48342\, United States
CATEGORIES:Annual Events
ATTACH;FMTTYPE=image/jpeg:https://www.ocphs.org/wp-content/uploads/2017/06/2017-Fall-Auction-Graphics-Flyer-816-984.jpg
ORGANIZER;CN="OCPHS Staff":MAILTO:office@ocphs.org
END:VEVENT
BEGIN:VEVENT
DTSTART;TZID=America/Detroit:20170729T110000
DTEND;TZID=America/Detroit:20170729T170000
DTSTAMP:20260423T211110
CREATED:20170610T112435Z
LAST-MODIFIED:20170706T112756Z
UID:278-1501326000-1501347600@www.ocphs.org
SUMMARY:Annual Ice Cream Summer Social
DESCRIPTION:Our annual Summer Ice Cream Social is a major fundraiser for the society\, and offers a lot of fun for the entire family. $7.00 per person or $15.00 per family. Click here to get the details!
URL:https://www.ocphs.org/event/annual-summer-social/
LOCATION:Pine Grove\, 405 Cesar E Chavez Ave\, Pontiac\, MI\, 48341\, United States
CATEGORIES:Annual Events
ATTACH;FMTTYPE=image/jpeg:https://www.ocphs.org/wp-content/uploads/2017/06/2017-Summer-SocialLLDC.jpg
ORGANIZER;CN="OCPHS Staff":MAILTO:office@ocphs.org
END:VEVENT
END:VCALENDAR