BEGIN:VCALENDAR
VERSION:2.0
PRODID:-//Oakland History Center at Pine Grove - ECPv6.15.20//NONSGML v1.0//EN
CALSCALE:GREGORIAN
METHOD:PUBLISH
X-WR-CALNAME:Oakland History Center at Pine Grove
X-ORIGINAL-URL:https://www.ocphs.org
X-WR-CALDESC:Events for Oakland History Center at Pine Grove
REFRESH-INTERVAL;VALUE=DURATION:PT1H
X-Robots-Tag:noindex
X-PUBLISHED-TTL:PT1H
BEGIN:VTIMEZONE
TZID:America/Detroit
BEGIN:DAYLIGHT
TZOFFSETFROM:-0500
TZOFFSETTO:-0400
TZNAME:EDT
DTSTART:20180311T070000
END:DAYLIGHT
BEGIN:STANDARD
TZOFFSETFROM:-0400
TZOFFSETTO:-0500
TZNAME:EST
DTSTART:20181104T060000
END:STANDARD
BEGIN:DAYLIGHT
TZOFFSETFROM:-0500
TZOFFSETTO:-0400
TZNAME:EDT
DTSTART:20190310T070000
END:DAYLIGHT
BEGIN:STANDARD
TZOFFSETFROM:-0400
TZOFFSETTO:-0500
TZNAME:EST
DTSTART:20191103T060000
END:STANDARD
BEGIN:DAYLIGHT
TZOFFSETFROM:-0500
TZOFFSETTO:-0400
TZNAME:EDT
DTSTART:20200308T070000
END:DAYLIGHT
BEGIN:STANDARD
TZOFFSETFROM:-0400
TZOFFSETTO:-0500
TZNAME:EST
DTSTART:20201101T060000
END:STANDARD
END:VTIMEZONE
BEGIN:VEVENT
DTSTART;TZID=America/Detroit:20190206T180000
DTEND;TZID=America/Detroit:20190206T200000
DTSTAMP:20260424T025457
CREATED:20190123T141252Z
LAST-MODIFIED:20190129T235403Z
UID:2147-1549476000-1549483200@www.ocphs.org
SUMMARY:Meet the Author & Book Signing - John Cohassey
DESCRIPTION:** Note: Event Rescheduled Due To Weather ** \n  \nHot off the Presses!\nMeet author John Cohassey as he shares information about the day to day experiences of the soldiers of the Michigan 22nd Infantry. John’s new book will be available for sale & signing that evening. This is an informal gathering\, light refreshments will be provided. \nThis history explores the 22nd’s day-to-day experiences in Kentucky\, Tennessee and Georgia. John describes the challenges faced by volunteer farm boys\, shopkeepers\, school teachers and lawyers as they faced death\, disease and starvation on battlefields and in Confederate prisons. \n6 to 8 pm Wednesday evening\, there is no charge for this event.\nEvent is held in the Carriage House at Pine Grove\, 405 Cesar E. Chavez Avenue\, Pontiac\, Mi 48342.
URL:https://www.ocphs.org/event/meet-the-author-book-signing-john-cohassey/
LOCATION:OCPHS Carriage House\, 405 Cesar E Chavez Ave\, Pontiac\, MI\, 48341\, United States
CATEGORIES:Book Signing
ATTACH;FMTTYPE=image/jpeg:https://www.ocphs.org/wp-content/uploads/2019/01/J-Cohassey.jpg
ORGANIZER;CN="OCPHS Staff":MAILTO:office@ocphs.org
END:VEVENT
END:VCALENDAR