BEGIN:VCALENDAR
VERSION:2.0
PRODID:-//Oakland History Center at Pine Grove - ECPv6.15.20//NONSGML v1.0//EN
CALSCALE:GREGORIAN
METHOD:PUBLISH
X-WR-CALNAME:Oakland History Center at Pine Grove
X-ORIGINAL-URL:https://www.ocphs.org
X-WR-CALDESC:Events for Oakland History Center at Pine Grove
REFRESH-INTERVAL;VALUE=DURATION:PT1H
X-Robots-Tag:noindex
X-PUBLISHED-TTL:PT1H
BEGIN:VTIMEZONE
TZID:America/Detroit
BEGIN:DAYLIGHT
TZOFFSETFROM:-0500
TZOFFSETTO:-0400
TZNAME:EDT
DTSTART:20180311T070000
END:DAYLIGHT
BEGIN:STANDARD
TZOFFSETFROM:-0400
TZOFFSETTO:-0500
TZNAME:EST
DTSTART:20181104T060000
END:STANDARD
BEGIN:DAYLIGHT
TZOFFSETFROM:-0500
TZOFFSETTO:-0400
TZNAME:EDT
DTSTART:20190310T070000
END:DAYLIGHT
BEGIN:STANDARD
TZOFFSETFROM:-0400
TZOFFSETTO:-0500
TZNAME:EST
DTSTART:20191103T060000
END:STANDARD
BEGIN:DAYLIGHT
TZOFFSETFROM:-0500
TZOFFSETTO:-0400
TZNAME:EDT
DTSTART:20200308T070000
END:DAYLIGHT
BEGIN:STANDARD
TZOFFSETFROM:-0400
TZOFFSETTO:-0500
TZNAME:EST
DTSTART:20201101T060000
END:STANDARD
BEGIN:DAYLIGHT
TZOFFSETFROM:-0500
TZOFFSETTO:-0400
TZNAME:EDT
DTSTART:20210314T070000
END:DAYLIGHT
BEGIN:STANDARD
TZOFFSETFROM:-0400
TZOFFSETTO:-0500
TZNAME:EST
DTSTART:20211107T060000
END:STANDARD
END:VTIMEZONE
BEGIN:VEVENT
DTSTART;VALUE=DATE:20200725
DTEND;VALUE=DATE:20200726
DTSTAMP:20260424T150531
CREATED:20191222T170747Z
LAST-MODIFIED:20200715T122256Z
UID:3076-1595635200-1595721599@www.ocphs.org
SUMMARY:Cancelled: “Early Oakland County Pioneers’ Way of Life” lecture by Dave Decker et al
DESCRIPTION:“Early Oakland County Pioneers’ Way of Life” lecture by Dave Decker et al\nDetails coming soon.
URL:https://www.ocphs.org/event/early-oakland-county-pioneers-way-of-life-lecture-by-dave-decker-et-al/
LOCATION:Pine Grove\, 405 Cesar E Chavez Ave\, Pontiac\, MI\, 48341\, United States
CATEGORIES:Cancelled,Oakland County Bicentennial,OCPHS Lecture Series
ORGANIZER;CN="Oakland County Pioneer and Historical Society":MAILTO:office@ocphs.org
END:VEVENT
BEGIN:VEVENT
DTSTART;VALUE=DATE:20200530
DTEND;VALUE=DATE:20200531
DTSTAMP:20260424T150531
CREATED:20191222T165513Z
LAST-MODIFIED:20200529T124136Z
UID:3062-1590796800-1590883199@www.ocphs.org
SUMMARY:Cancelled: Pontiac Historic Home and Garden Tour
DESCRIPTION:Pontiac Historic Home and Garden Tour\nCancelled due to coronavirus pandemic.
URL:https://www.ocphs.org/event/pontiac-historic-home-and-garden-tour/
LOCATION:Oakland County Pioneer and Historical Society\, 405 Cesar E Chavez\, Pontiac\, MI\, 48341\, United States
CATEGORIES:Cancelled,Oakland County Bicentennial
ORGANIZER;CN="Oakland County Pioneer and Historical Society":MAILTO:office@ocphs.org
END:VEVENT
BEGIN:VEVENT
DTSTART;VALUE=DATE:20200328
DTEND;VALUE=DATE:20200329
DTSTAMP:20260424T150531
CREATED:20191222T163521Z
LAST-MODIFIED:20200317T135850Z
UID:3050-1585353600-1585439999@www.ocphs.org
SUMMARY:Cancelled: Oakland County Bicentennial Celebration
DESCRIPTION:Happy Birthday\, Oakland County! \n\n\nEvent cancelled. Boo. Wash your hands!\n\n\n 
URL:https://www.ocphs.org/event/oakland-county-bicentennial-celebration/
LOCATION:MI
CATEGORIES:Cancelled,Oakland County Bicentennial
END:VEVENT
BEGIN:VEVENT
DTSTART;TZID=America/Detroit:20190525T090000
DTEND;TZID=America/Detroit:20190525T170000
DTSTAMP:20260424T150531
CREATED:20190323T144744Z
LAST-MODIFIED:20190420T151712Z
UID:2204-1558774800-1558803600@www.ocphs.org
SUMMARY:Cancelled: Underground Railroad Historic Site Tour III - Dr. Willie Payne
DESCRIPTION:Unfortunately\, this event has been cancelled. Look for another tour later in the year! \nThis tour explores sites in Pontiac\, Orchard Lake\, Walled Lake\, Farmington and Detroit used to harbor southern fugitive slaves. You’ll hear stories of how local abolitionists helped them escape to Canada on the Underground Railroad.
URL:https://www.ocphs.org/event/underground-railroad-historic-site-tour-iii-willie-payne/
LOCATION:Pine Grove\, 405 Cesar E Chavez Ave\, Pontiac\, MI\, 48341\, United States
CATEGORIES:Cancelled
ATTACH;FMTTYPE=image/jpeg:https://www.ocphs.org/wp-content/uploads/2019/03/UG-RR-Historic-Site-Tour-III100.jpg
END:VEVENT
END:VCALENDAR