BEGIN:VCALENDAR
VERSION:2.0
PRODID:-//Oakland History Center at Pine Grove - ECPv6.15.20//NONSGML v1.0//EN
CALSCALE:GREGORIAN
METHOD:PUBLISH
X-WR-CALNAME:Oakland History Center at Pine Grove
X-ORIGINAL-URL:https://www.ocphs.org
X-WR-CALDESC:Events for Oakland History Center at Pine Grove
REFRESH-INTERVAL;VALUE=DURATION:PT1H
X-Robots-Tag:noindex
X-PUBLISHED-TTL:PT1H
BEGIN:VTIMEZONE
TZID:America/Detroit
BEGIN:DAYLIGHT
TZOFFSETFROM:-0500
TZOFFSETTO:-0400
TZNAME:EDT
DTSTART:20180311T070000
END:DAYLIGHT
BEGIN:STANDARD
TZOFFSETFROM:-0400
TZOFFSETTO:-0500
TZNAME:EST
DTSTART:20181104T060000
END:STANDARD
BEGIN:DAYLIGHT
TZOFFSETFROM:-0500
TZOFFSETTO:-0400
TZNAME:EDT
DTSTART:20190310T070000
END:DAYLIGHT
BEGIN:STANDARD
TZOFFSETFROM:-0400
TZOFFSETTO:-0500
TZNAME:EST
DTSTART:20191103T060000
END:STANDARD
BEGIN:DAYLIGHT
TZOFFSETFROM:-0500
TZOFFSETTO:-0400
TZNAME:EDT
DTSTART:20200308T070000
END:DAYLIGHT
BEGIN:STANDARD
TZOFFSETFROM:-0400
TZOFFSETTO:-0500
TZNAME:EST
DTSTART:20201101T060000
END:STANDARD
END:VTIMEZONE
BEGIN:VEVENT
DTSTART;VALUE=DATE:20190212
DTEND;VALUE=DATE:20190213
DTSTAMP:20260424T024832
CREATED:20190212T135243Z
LAST-MODIFIED:20190212T135243Z
UID:2168-1549929600-1550015999@www.ocphs.org
SUMMARY:Pine Grove Closed - Snow Day
DESCRIPTION:Baby\, it’s cold outside. And the Pontiac School District sets our schedule – we follow along. The schools are closed today.
URL:https://www.ocphs.org/event/pine-grove-closed-snow-day-3/
LOCATION:Pine Grove\, 405 Cesar E Chavez Ave\, Pontiac\, MI\, 48341\, United States
CATEGORIES:Closings
ATTACH;FMTTYPE=image/jpeg:https://www.ocphs.org/wp-content/uploads/2019/01/img436-scaled.jpg
END:VEVENT
BEGIN:VEVENT
DTSTART;VALUE=DATE:20190129
DTEND;VALUE=DATE:20190131
DTSTAMP:20260424T024832
CREATED:20190129T235213Z
LAST-MODIFIED:20190129T235509Z
UID:2161-1548720000-1548892799@www.ocphs.org
SUMMARY:Pine Grove Closed - Snow Days!
DESCRIPTION:Baby\, it’s cold outside. And the Pontiac School District sets our schedule – we follow along. \nPine Grove is closed Tuesday January 29th and Wednesday January 30th due to the weather. \nHere’s hoping for Thursday!
URL:https://www.ocphs.org/event/pine-grove-closed-snow-days/
LOCATION:Pine Grove\, 405 Cesar E Chavez Ave\, Pontiac\, MI\, 48341\, United States
CATEGORIES:Closings
ATTACH;FMTTYPE=image/jpeg:https://www.ocphs.org/wp-content/uploads/2019/01/img436-scaled.jpg
END:VEVENT
BEGIN:VEVENT
DTSTART;VALUE=DATE:20190123
DTEND;VALUE=DATE:20190124
DTSTAMP:20260424T024832
CREATED:20190123T135537Z
LAST-MODIFIED:20190123T140118Z
UID:2138-1548201600-1548287999@www.ocphs.org
SUMMARY:Pine Grove Closed - Snow Day!
DESCRIPTION:The Pontiac School District is closed today due to road conditions\, and since the schools are closed\, well then so are we. Please stay safe out there\, we will be open Thursday\, weather permitting. \n  \nPhoto of the Pine Grove campus\, circa 1920. Courtesy of the David C Wallace Collection\, Oakland County Pioneer and Historical Society.
URL:https://www.ocphs.org/event/pine-grove-closed-snow-day-2/
LOCATION:MI
CATEGORIES:Closings
ATTACH;FMTTYPE=image/jpeg:https://www.ocphs.org/wp-content/uploads/2019/01/img436-scaled.jpg
END:VEVENT
END:VCALENDAR