BEGIN:VCALENDAR
VERSION:2.0
PRODID:-//Oakland History Center at Pine Grove - ECPv6.15.20//NONSGML v1.0//EN
CALSCALE:GREGORIAN
METHOD:PUBLISH
X-WR-CALNAME:Oakland History Center at Pine Grove
X-ORIGINAL-URL:https://www.ocphs.org
X-WR-CALDESC:Events for Oakland History Center at Pine Grove
REFRESH-INTERVAL;VALUE=DURATION:PT1H
X-Robots-Tag:noindex
X-PUBLISHED-TTL:PT1H
BEGIN:VTIMEZONE
TZID:America/Detroit
BEGIN:DAYLIGHT
TZOFFSETFROM:-0500
TZOFFSETTO:-0400
TZNAME:EDT
DTSTART:20210314T070000
END:DAYLIGHT
BEGIN:STANDARD
TZOFFSETFROM:-0400
TZOFFSETTO:-0500
TZNAME:EST
DTSTART:20211107T060000
END:STANDARD
BEGIN:DAYLIGHT
TZOFFSETFROM:-0500
TZOFFSETTO:-0400
TZNAME:EDT
DTSTART:20220313T070000
END:DAYLIGHT
BEGIN:STANDARD
TZOFFSETFROM:-0400
TZOFFSETTO:-0500
TZNAME:EST
DTSTART:20221106T060000
END:STANDARD
BEGIN:DAYLIGHT
TZOFFSETFROM:-0500
TZOFFSETTO:-0400
TZNAME:EDT
DTSTART:20230312T070000
END:DAYLIGHT
BEGIN:STANDARD
TZOFFSETFROM:-0400
TZOFFSETTO:-0500
TZNAME:EST
DTSTART:20231105T060000
END:STANDARD
END:VTIMEZONE
BEGIN:VEVENT
DTSTART;TZID=America/Detroit:20220528T120000
DTEND;TZID=America/Detroit:20220528T170000
DTSTAMP:20260420T131710
CREATED:20220311T135249Z
LAST-MODIFIED:20220311T135249Z
UID:4934-1653739200-1653757200@www.ocphs.org
SUMMARY:Spring Flea Market and Open Tour Day Spring Flea Market and Open Tour Day 12 - 5 PM
DESCRIPTION:Join us every Saturday in April and May for flea market sales and tours of our historic house and grounds. Times are approximate.
URL:https://www.ocphs.org/event/spring-flea-market-and-open-tour-day-spring-flea-market-and-open-tour-day-12-5-pm-6/
LOCATION:Oakland History Center at Pine Grove\, 405 Cesar Chavez Avenue\, Pontiac\, MI\, 48341\, United States
CATEGORIES:Grounds Events
END:VEVENT
END:VCALENDAR