BEGIN:VCALENDAR
VERSION:2.0
PRODID:-//Oakland History Center at Pine Grove - ECPv6.15.20//NONSGML v1.0//EN
CALSCALE:GREGORIAN
METHOD:PUBLISH
X-WR-CALNAME:Oakland History Center at Pine Grove
X-ORIGINAL-URL:https://www.ocphs.org
X-WR-CALDESC:Events for Oakland History Center at Pine Grove
REFRESH-INTERVAL;VALUE=DURATION:PT1H
X-Robots-Tag:noindex
X-PUBLISHED-TTL:PT1H
BEGIN:VTIMEZONE
TZID:America/Detroit
BEGIN:DAYLIGHT
TZOFFSETFROM:-0500
TZOFFSETTO:-0400
TZNAME:EDT
DTSTART:20180311T070000
END:DAYLIGHT
BEGIN:STANDARD
TZOFFSETFROM:-0400
TZOFFSETTO:-0500
TZNAME:EST
DTSTART:20181104T060000
END:STANDARD
BEGIN:DAYLIGHT
TZOFFSETFROM:-0500
TZOFFSETTO:-0400
TZNAME:EDT
DTSTART:20190310T070000
END:DAYLIGHT
BEGIN:STANDARD
TZOFFSETFROM:-0400
TZOFFSETTO:-0500
TZNAME:EST
DTSTART:20191103T060000
END:STANDARD
BEGIN:DAYLIGHT
TZOFFSETFROM:-0500
TZOFFSETTO:-0400
TZNAME:EDT
DTSTART:20200308T070000
END:DAYLIGHT
BEGIN:STANDARD
TZOFFSETFROM:-0400
TZOFFSETTO:-0500
TZNAME:EST
DTSTART:20201101T060000
END:STANDARD
BEGIN:DAYLIGHT
TZOFFSETFROM:-0500
TZOFFSETTO:-0400
TZNAME:EDT
DTSTART:20210314T070000
END:DAYLIGHT
BEGIN:STANDARD
TZOFFSETFROM:-0400
TZOFFSETTO:-0500
TZNAME:EST
DTSTART:20211107T060000
END:STANDARD
BEGIN:DAYLIGHT
TZOFFSETFROM:-0500
TZOFFSETTO:-0400
TZNAME:EDT
DTSTART:20220313T070000
END:DAYLIGHT
BEGIN:STANDARD
TZOFFSETFROM:-0400
TZOFFSETTO:-0500
TZNAME:EST
DTSTART:20221106T060000
END:STANDARD
BEGIN:DAYLIGHT
TZOFFSETFROM:-0500
TZOFFSETTO:-0400
TZNAME:EDT
DTSTART:20230312T070000
END:DAYLIGHT
BEGIN:STANDARD
TZOFFSETFROM:-0400
TZOFFSETTO:-0500
TZNAME:EST
DTSTART:20231105T060000
END:STANDARD
END:VTIMEZONE
BEGIN:VEVENT
DTSTART;TZID=America/Detroit:20220507T120000
DTEND;TZID=America/Detroit:20220507T170000
DTSTAMP:20260424T032535
CREATED:20220311T134922Z
LAST-MODIFIED:20220311T135414Z
UID:4930-1651924800-1651942800@www.ocphs.org
SUMMARY:Spring Flea Market and Open Tour Day Spring Flea Market and Open Tour Day 12 - 5 PM
DESCRIPTION:Join us every Saturday in April and May for flea market sales and tours of our historic house and grounds. Times are approximate.
URL:https://www.ocphs.org/event/spring-flea-market-and-open-tour-day-spring-flea-market-and-open-tour-day-12-5-pm-4/
LOCATION:Oakland History Center at Pine Grove\, 405 Cesar Chavez Avenue\, Pontiac\, MI\, 48341\, United States
CATEGORIES:Grounds Events
END:VEVENT
BEGIN:VEVENT
DTSTART;TZID=America/Detroit:20220430T120000
DTEND;TZID=America/Detroit:20220430T170000
DTSTAMP:20260424T032535
CREATED:20220311T134834Z
LAST-MODIFIED:20220311T135552Z
UID:4928-1651320000-1651338000@www.ocphs.org
SUMMARY:Spring Flea Market and Open Tour Day Spring Flea Market and Open Tour Day 12 - 5 PM
DESCRIPTION:Join us every Saturday in April and May for flea market sales and tours of our historic house and grounds. Times are approximate.
URL:https://www.ocphs.org/event/spring-flea-market-and-open-tour-day-spring-flea-market-and-open-tour-day-12-5-pm-3/
LOCATION:Oakland History Center at Pine Grove\, 405 Cesar Chavez Avenue\, Pontiac\, MI\, 48341\, United States
CATEGORIES:Grounds Events
END:VEVENT
BEGIN:VEVENT
DTSTART;TZID=America/Detroit:20220423T120000
DTEND;TZID=America/Detroit:20220423T170000
DTSTAMP:20260424T032535
CREATED:20220311T134752Z
LAST-MODIFIED:20220311T135519Z
UID:4926-1650715200-1650733200@www.ocphs.org
SUMMARY:Spring Flea Market and Open Tour Day Spring Flea Market and Open Tour Day 12 - 5 PM
DESCRIPTION:Join us every Saturday in April and May for flea market sales and tours of our historic house and grounds. Times are approximate.
URL:https://www.ocphs.org/event/spring-flea-market-and-open-tour-day-spring-flea-market-and-open-tour-day-12-5-pm-2/
LOCATION:Oakland History Center at Pine Grove\, 405 Cesar Chavez Avenue\, Pontiac\, MI\, 48341\, United States
CATEGORIES:Grounds Events
END:VEVENT
BEGIN:VEVENT
DTSTART;TZID=America/Detroit:20220416T120000
DTEND;TZID=America/Detroit:20220416T170000
DTSTAMP:20260424T032535
CREATED:20220311T134600Z
LAST-MODIFIED:20220311T135457Z
UID:4924-1650110400-1650128400@www.ocphs.org
SUMMARY:Spring Flea Market and Open Tour Day Spring Flea Market and Open Tour Day 12 - 5 PM
DESCRIPTION:Join us every Saturday in April and May for flea market sales and tours of our historic house and grounds. Times are approximate.
URL:https://www.ocphs.org/event/spring-flea-market-and-open-tour-day-spring-flea-market-and-open-tour-day-12-5-pm/
LOCATION:Oakland History Center at Pine Grove\, 405 Cesar Chavez Avenue\, Pontiac\, MI\, 48341\, United States
CATEGORIES:Grounds Events
END:VEVENT
BEGIN:VEVENT
DTSTART;TZID=America/Detroit:20220409T120000
DTEND;TZID=America/Detroit:20220409T170000
DTSTAMP:20260424T032535
CREATED:20220311T134517Z
LAST-MODIFIED:20220311T135439Z
UID:4922-1649505600-1649523600@www.ocphs.org
SUMMARY:Spring Flea Market and Open Tour Day 12 - 5 PM
DESCRIPTION:Join us every Saturday in April and May for flea market sales and tours of our historic house and grounds. Times are approximate.
URL:https://www.ocphs.org/event/spring-flea-market-and-open-tour-day-12-5-pm/
LOCATION:Oakland History Center at Pine Grove\, 405 Cesar Chavez Avenue\, Pontiac\, MI\, 48341\, United States
CATEGORIES:Grounds Events
END:VEVENT
BEGIN:VEVENT
DTSTART;TZID=America/Detroit:20220402T120000
DTEND;TZID=America/Detroit:20220402T170000
DTSTAMP:20260424T032535
CREATED:20220311T134304Z
LAST-MODIFIED:20220311T135314Z
UID:4919-1648900800-1648918800@www.ocphs.org
SUMMARY:Spring Flea Market and Open Tour Day 12 - 5 PM
DESCRIPTION:Join us every Saturday in April and May for flea market sales and tours of our historic house and grounds. Times are approximate.
URL:https://www.ocphs.org/event/spring-flea-market-and-open-tour-day/
LOCATION:Oakland History Center at Pine Grove\, 405 Cesar Chavez Avenue\, Pontiac\, MI\, 48341\, United States
CATEGORIES:Grounds Events
END:VEVENT
BEGIN:VEVENT
DTSTART;VALUE=DATE:20201206
DTEND;VALUE=DATE:20201207
DTSTAMP:20260424T032535
CREATED:20191222T172835Z
LAST-MODIFIED:20201122T122427Z
UID:3101-1607212800-1607299199@www.ocphs.org
SUMMARY:Cancelled: OCPHS Christmas Magic at the Museum
DESCRIPTION:All events for the 2020 holiday season have been cancelled.
URL:https://www.ocphs.org/event/ocphs-christmas-magic-at-the-museum/
LOCATION:Pine Grove\, 405 Cesar E Chavez Ave\, Pontiac\, MI\, 48341\, United States
CATEGORIES:Annual Events,Grounds Events,Mansion Event,Oakland County Bicentennial
ORGANIZER;CN="Oakland County Pioneer and Historical Society":MAILTO:office@ocphs.org
END:VEVENT
BEGIN:VEVENT
DTSTART;TZID=America/Detroit:20191130T180000
DTEND;TZID=America/Detroit:20191130T210000
DTSTAMP:20260424T032535
CREATED:20191124T105941Z
LAST-MODIFIED:20191124T110751Z
UID:2777-1575136800-1575147600@www.ocphs.org
SUMMARY:Dishes Past - A Night of Historic Cuisine
DESCRIPTION:Journey back\, through Dishes Past\, to a time when Moses Wisner\, the Governor of Michigan\, made his home in Pontiac. With recipes taken from the Angeolina Wisner cookbook inspired by life at Pine Grove\, enjoy a taste of the 19th century and celebrate something timeless – great food! \nTickets for this four course meal are $40 per person. The meal will take place on the grounds of Pine Grove\, Governor Wisner’s mansion\, in Pontiac. A portion of the proceeds will benefit the Oakland County Pioneer and Historical Society. \nSpace is limited. Tickets available from localhop here: Get Tickets
URL:https://www.ocphs.org/event/dishes-past-a-night-of-historic-cuisine/
LOCATION:Pine Grove\, 405 Cesar E Chavez Ave\, Pontiac\, MI\, 48341\, United States
CATEGORIES:Cross Promotion,Grounds Events
ORGANIZER;CN="Plain and Fancy Food":MAILTO:plainandfancyfood@gmail.com
END:VEVENT
BEGIN:VEVENT
DTSTART;TZID=America/Detroit:20191019T190000
DTEND;TZID=America/Detroit:20191019T220000
DTSTAMP:20260424T032535
CREATED:20191004T161329Z
LAST-MODIFIED:20191004T161330Z
UID:2452-1571511600-1571522400@www.ocphs.org
SUMMARY:Haunted Museum Costume Party: Karpinski & McGuinness 8th Soiree
DESCRIPTION:Join us for our annual Karpinski & McGuinness Halloween celebration! \nThis year will be at the Historical Society\, both indoors and outdoors and family friendly. Free admission and free onsite parking. \nCostumes are optional\, but a good time is mandatory! If you’re willing please bring a dish to pass and a contribution for the Historical Society. \nThis is a great time during the dynamic Hauntiac season.
URL:https://www.ocphs.org/event/haunted-museum-costume-party-karpinski-mcguinness-8th-soiree/
LOCATION:Pine Grove\, 405 Cesar E Chavez Ave\, Pontiac\, MI\, 48341\, United States
CATEGORIES:Annual Events,Grounds Events
ATTACH;FMTTYPE=image/jpeg:https://www.ocphs.org/wp-content/uploads/2019/10/halloween-party.jpg
END:VEVENT
BEGIN:VEVENT
DTSTART;TZID=America/Detroit:20190926T180000
DTEND;TZID=America/Detroit:20190926T190000
DTSTAMP:20260424T032535
CREATED:20190829T224257Z
LAST-MODIFIED:20190829T224257Z
UID:2398-1569520800-1569524400@www.ocphs.org
SUMMARY:Outdoor Yoga in the Governor's Gardens
DESCRIPTION:Join us at Pine Grove for Outdoor Yoga in Governor Moses Wisner’s gardens! \nEvery Thursday from August 22 to September 26\, we’re collaborating with Yaktown Yoga for a one-hour outdoor session. \nPlease bring your own mat and a donation for the instructor’s time and expertise. \nIf weather is poor\, we will move it indoors for that session.
URL:https://www.ocphs.org/event/outdoor-yoga-in-the-governors-gardens-5/
LOCATION:Pine Grove\, 405 Cesar E Chavez Ave\, Pontiac\, MI\, 48341\, United States
CATEGORIES:Grounds Events
ATTACH;FMTTYPE=image/jpeg:https://www.ocphs.org/wp-content/uploads/2019/08/Yoga.jpg
ORGANIZER;CN="OCPHS Staff":MAILTO:office@ocphs.org
END:VEVENT
BEGIN:VEVENT
DTSTART;TZID=America/Detroit:20190919T180000
DTEND;TZID=America/Detroit:20190919T190000
DTSTAMP:20260424T032535
CREATED:20190829T224130Z
LAST-MODIFIED:20190829T224130Z
UID:2396-1568916000-1568919600@www.ocphs.org
SUMMARY:Outdoor Yoga in the Governor's Gardens
DESCRIPTION:Join us at Pine Grove for Outdoor Yoga in Governor Moses Wisner’s gardens! \nEvery Thursday from August 22 to September 26\, we’re collaborating with Yaktown Yoga for a one-hour outdoor session. \nPlease bring your own mat and a donation for the instructor’s time and expertise. \nIf weather is poor\, we will move it indoors for that session.
URL:https://www.ocphs.org/event/outdoor-yoga-in-the-governors-gardens-4/
LOCATION:Pine Grove\, 405 Cesar E Chavez Ave\, Pontiac\, MI\, 48341\, United States
CATEGORIES:Grounds Events
ATTACH;FMTTYPE=image/jpeg:https://www.ocphs.org/wp-content/uploads/2019/08/Yoga.jpg
ORGANIZER;CN="OCPHS Staff":MAILTO:office@ocphs.org
END:VEVENT
BEGIN:VEVENT
DTSTART;TZID=America/Detroit:20190912T180000
DTEND;TZID=America/Detroit:20190912T190000
DTSTAMP:20260424T032535
CREATED:20190829T223903Z
LAST-MODIFIED:20190829T223903Z
UID:2394-1568311200-1568314800@www.ocphs.org
SUMMARY:Outdoor Yoga in the Governor's Gardens
DESCRIPTION:Join us at Pine Grove for Outdoor Yoga in Governor Moses Wisner’s gardens! \nEvery Thursday from August 22 to September 26\, we’re collaborating with Yaktown Yoga for a one-hour outdoor session. \nPlease bring your own mat and a donation for the instructor’s time and expertise. \nIf weather is poor\, we will move it indoors for that session.
URL:https://www.ocphs.org/event/outdoor-yoga-in-the-governors-gardens-3/
LOCATION:Pine Grove\, 405 Cesar E Chavez Ave\, Pontiac\, MI\, 48341\, United States
CATEGORIES:Grounds Events
ATTACH;FMTTYPE=image/jpeg:https://www.ocphs.org/wp-content/uploads/2019/08/Yoga.jpg
ORGANIZER;CN="OCPHS Staff":MAILTO:office@ocphs.org
END:VEVENT
BEGIN:VEVENT
DTSTART;TZID=America/Detroit:20190907T093000
DTEND;TZID=America/Detroit:20190907T113000
DTSTAMP:20260424T032535
CREATED:20190829T224747Z
LAST-MODIFIED:20190829T224747Z
UID:2400-1567848600-1567855800@www.ocphs.org
SUMMARY:Patriot Week Academy
DESCRIPTION:Join us at the Oakland County Pioneer and Historical Society on September 7 for our MEMBERS ONLY Patriot Week Academy! Saturday\, September 7th from 9:30am – 11:30am. The event will begin with a welcome and introduction to the Oakland County Pioneer and Historical Society. \nOur lesson for the Academy this year will cover the Constitution…where it ALL began! We will teach about the Constitution through interactive games and group discussion. The event will end with a call to action and optional tour of the Oakland County Pioneer Historical Society! A continental breakfast will be provided! \nTHIS IS A MEMBER ONLY EVENT. PLEASE RSVP BY MONDAY\, SEPTEMBER 2. EMAIL KWENTZ@PATRIOTWEEK.ORG OR CALL/TEXT 248-920-6109 TO RESERVE YOUR SPOT. \nTo become a Patriot Week Member\, please visit our website at https://www.patriotweek.org/shop-1
URL:https://www.ocphs.org/event/patriot-week-academy/
LOCATION:Pine Grove\, 405 Cesar E Chavez Ave\, Pontiac\, MI\, 48341\, United States
CATEGORIES:Cross Promotion,Grounds Events
ATTACH;FMTTYPE=image/jpeg:https://www.ocphs.org/wp-content/uploads/2019/08/patriot-Week-Academy.jpg
ORGANIZER;CN="OCPHS Staff":MAILTO:office@ocphs.org
END:VEVENT
BEGIN:VEVENT
DTSTART;TZID=America/Detroit:20190905T180000
DTEND;TZID=America/Detroit:20190905T190000
DTSTAMP:20260424T032535
CREATED:20190829T223530Z
LAST-MODIFIED:20190829T223948Z
UID:2391-1567706400-1567710000@www.ocphs.org
SUMMARY:Outdoor Yoga in the Governor's Gardens
DESCRIPTION:Join us at Pine Grove for Outdoor Yoga in Governor Moses Wisner’s gardens! \nEvery Thursday from August 22 to September 26\, we’re collaborating with Yaktown Yoga for a one-hour outdoor session. \nPlease bring your own mat and a donation for the instructor’s time and expertise. \nIf weather is poor\, we will move it indoors for that session.
URL:https://www.ocphs.org/event/outdoor-yoga-in-the-governors-gardens-2/
LOCATION:Pine Grove\, 405 Cesar E Chavez Ave\, Pontiac\, MI\, 48341\, United States
CATEGORIES:Grounds Events
ATTACH;FMTTYPE=image/jpeg:https://www.ocphs.org/wp-content/uploads/2019/08/Yoga.jpg
ORGANIZER;CN="OCPHS Staff":MAILTO:office@ocphs.org
END:VEVENT
BEGIN:VEVENT
DTSTART;TZID=America/Detroit:20190829T190000
DTEND;TZID=America/Detroit:20190829T200000
DTSTAMP:20260424T032535
CREATED:20190829T223256Z
LAST-MODIFIED:20190829T223256Z
UID:2387-1567105200-1567108800@www.ocphs.org
SUMMARY:Outdoor Yoga in the Governor's Gardens
DESCRIPTION:Join us at Pine Grove for Outdoor Yoga in Governor Moses Wisner’s gardens! \nEvery Thursday from August 22 to September 26\, we’re collaborating with Yaktown Yoga for a one-hour outdoor session. \nPlease bring your own mat and a donation for the instructor’s time and expertise. \nIf weather is poor\, we will move it indoors for that session.
URL:https://www.ocphs.org/event/outdoor-yoga-in-the-governors-gardens/
LOCATION:Pine Grove\, 405 Cesar E Chavez Ave\, Pontiac\, MI\, 48341\, United States
CATEGORIES:Grounds Events
ATTACH;FMTTYPE=image/jpeg:https://www.ocphs.org/wp-content/uploads/2019/08/Yoga.jpg
ORGANIZER;CN="OCPHS Staff":MAILTO:office@ocphs.org
END:VEVENT
END:VCALENDAR