BEGIN:VCALENDAR
VERSION:2.0
PRODID:-//Oakland History Center at Pine Grove - ECPv6.15.20//NONSGML v1.0//EN
CALSCALE:GREGORIAN
METHOD:PUBLISH
X-ORIGINAL-URL:https://www.ocphs.org
X-WR-CALDESC:Events for Oakland History Center at Pine Grove
REFRESH-INTERVAL;VALUE=DURATION:PT1H
X-Robots-Tag:noindex
X-PUBLISHED-TTL:PT1H
BEGIN:VTIMEZONE
TZID:America/Detroit
BEGIN:DAYLIGHT
TZOFFSETFROM:-0500
TZOFFSETTO:-0400
TZNAME:EDT
DTSTART:20230312T070000
END:DAYLIGHT
BEGIN:STANDARD
TZOFFSETFROM:-0400
TZOFFSETTO:-0500
TZNAME:EST
DTSTART:20231105T060000
END:STANDARD
BEGIN:DAYLIGHT
TZOFFSETFROM:-0500
TZOFFSETTO:-0400
TZNAME:EDT
DTSTART:20240310T070000
END:DAYLIGHT
BEGIN:STANDARD
TZOFFSETFROM:-0400
TZOFFSETTO:-0500
TZNAME:EST
DTSTART:20241103T060000
END:STANDARD
BEGIN:DAYLIGHT
TZOFFSETFROM:-0500
TZOFFSETTO:-0400
TZNAME:EDT
DTSTART:20250309T070000
END:DAYLIGHT
BEGIN:STANDARD
TZOFFSETFROM:-0400
TZOFFSETTO:-0500
TZNAME:EST
DTSTART:20251102T060000
END:STANDARD
BEGIN:DAYLIGHT
TZOFFSETFROM:-0500
TZOFFSETTO:-0400
TZNAME:EDT
DTSTART:20260308T070000
END:DAYLIGHT
BEGIN:STANDARD
TZOFFSETFROM:-0400
TZOFFSETTO:-0500
TZNAME:EST
DTSTART:20261101T060000
END:STANDARD
BEGIN:DAYLIGHT
TZOFFSETFROM:-0500
TZOFFSETTO:-0400
TZNAME:EDT
DTSTART:20270314T070000
END:DAYLIGHT
BEGIN:STANDARD
TZOFFSETFROM:-0400
TZOFFSETTO:-0500
TZNAME:EST
DTSTART:20271107T060000
END:STANDARD
END:VTIMEZONE
BEGIN:VEVENT
DTSTART;TZID=America/Detroit:20240727T120000
DTEND;TZID=America/Detroit:20240728T160000
DTSTAMP:20260420T172444
CREATED:20240606T123717Z
LAST-MODIFIED:20240606T123717Z
UID:5763-1722081600-1722182400@www.ocphs.org
SUMMARY:55th Annual Summer Ice Cream Social
DESCRIPTION:Free\, family friendly celebration held at the Oakland History Center! \nFree Ice Cream \nFood Trucks \nLive Music \nReenactors \nMansion Tours \nHistoric Demonstrations \nFlea Market \nVendor Booths \nKids Crafts
URL:https://www.ocphs.org/event/55th-annual-summer-ice-cream-social/
LOCATION:Oakland History Center at Pine Grove\, 405 Cesar Chavez Avenue\, Pontiac\, MI\, 48341\, United States
CATEGORIES:Annual Events,Grounds Events
ATTACH;FMTTYPE=image/jpeg:https://www.ocphs.org/wp-content/uploads/2024/06/2024-Summer-Social.jpg
ORGANIZER;CN="Oakland County Pioneer and Historical Society":MAILTO:office@ocphs.org
END:VEVENT
BEGIN:VEVENT
DTSTART;TZID=America/Detroit:20260502T100000
DTEND;TZID=America/Detroit:20260502T160000
DTSTAMP:20260420T172444
CREATED:20260409T122846Z
LAST-MODIFIED:20260409T122846Z
UID:7215-1777716000-1777737600@www.ocphs.org
SUMMARY:Spring Clean-Up
DESCRIPTION:Spring is in the air and you know what that means… \nIt’s time for spring cleaning. We invite you to help us clean up our grounds and exhibit spaces! Many hands make light work\, and we  can’t do it alone. So if you are able\, grab a rake and swing on by.
URL:https://www.ocphs.org/event/spring-clean-up/
LOCATION:Oakland History Center at Pine Grove\, 405 Cesar Chavez Avenue\, Pontiac\, MI\, 48341\, United States
CATEGORIES:Grounds Events
ATTACH;FMTTYPE=image/png:https://www.ocphs.org/wp-content/uploads/2026/04/spring-cleanup-flyer.png
ORGANIZER;CN="Oakland History Center":MAILTO:office@ocphs.org
END:VEVENT
END:VCALENDAR