BEGIN:VCALENDAR
VERSION:2.0
PRODID:-//Oakland History Center at Pine Grove - ECPv6.15.20//NONSGML v1.0//EN
CALSCALE:GREGORIAN
METHOD:PUBLISH
X-WR-CALNAME:Oakland History Center at Pine Grove
X-ORIGINAL-URL:https://www.ocphs.org
X-WR-CALDESC:Events for Oakland History Center at Pine Grove
REFRESH-INTERVAL;VALUE=DURATION:PT1H
X-Robots-Tag:noindex
X-PUBLISHED-TTL:PT1H
BEGIN:VTIMEZONE
TZID:America/Detroit
BEGIN:DAYLIGHT
TZOFFSETFROM:-0500
TZOFFSETTO:-0400
TZNAME:EDT
DTSTART:20210314T070000
END:DAYLIGHT
BEGIN:STANDARD
TZOFFSETFROM:-0400
TZOFFSETTO:-0500
TZNAME:EST
DTSTART:20211107T060000
END:STANDARD
BEGIN:DAYLIGHT
TZOFFSETFROM:-0500
TZOFFSETTO:-0400
TZNAME:EDT
DTSTART:20220313T070000
END:DAYLIGHT
BEGIN:STANDARD
TZOFFSETFROM:-0400
TZOFFSETTO:-0500
TZNAME:EST
DTSTART:20221106T060000
END:STANDARD
BEGIN:DAYLIGHT
TZOFFSETFROM:-0500
TZOFFSETTO:-0400
TZNAME:EDT
DTSTART:20230312T070000
END:DAYLIGHT
BEGIN:STANDARD
TZOFFSETFROM:-0400
TZOFFSETTO:-0500
TZNAME:EST
DTSTART:20231105T060000
END:STANDARD
END:VTIMEZONE
BEGIN:VEVENT
DTSTART;VALUE=DATE:20221008
DTEND;VALUE=DATE:20221009
DTSTAMP:20260421T041743
CREATED:20220311T140128Z
LAST-MODIFIED:20220311T140128Z
UID:4942-1665187200-1665273599@www.ocphs.org
SUMMARY:Hauntiac Car Show and Woodward Scream Cruise
DESCRIPTION:
URL:https://www.ocphs.org/event/hauntiac-car-show-and-woodward-scream-cruise/
LOCATION:Oakland History Center at Pine Grove\, 405 Cesar Chavez Avenue\, Pontiac\, MI\, 48341\, United States
CATEGORIES:Grounds Events
END:VEVENT
BEGIN:VEVENT
DTSTART;TZID=America/Detroit:20221009T130000
DTEND;TZID=America/Detroit:20221009T160000
DTSTAMP:20260421T041743
CREATED:20221004T234936Z
LAST-MODIFIED:20221005T122047Z
UID:5263-1665320400-1665331200@www.ocphs.org
SUMMARY:Clarkston's Lakeview Cemetery Walk
DESCRIPTION:Print the Flyer \n  \nTickets: $15.00 Available at eventbrite (link)\, The Gateway\, 7150 N. Main Street\, online at Facebook – Lakeview Cemetery Restoration Project\, and at the venue. \nWalk begins at the Ticket Tent\, Lakeview Cemetery\, 6150 White Lake Road (last tour leaves at 4:00 p.m.) \nCostumed interpreters representing Clarkston men who served in the Union Army during the Civil War and women who were left to take care of families and land as well as a local merchant who supported the families during the time. \nSponsored by the National Society Daughters of the American Revolution\, Sashabaw Plains Chapter with funds going to the Restoration of Lakeview Cemetery historic gravestones.
URL:https://www.ocphs.org/event/clarkstons-lakeview-cemetery-walk/
LOCATION:Lakeview Cemetery\, 6150 White Lake Road\, Clarkston\, MI\, 48341\, United States
ATTACH;FMTTYPE=image/jpeg:https://www.ocphs.org/wp-content/uploads/2022/10/Clarkston-Lakeview-Cemetery-Walk-2022-e1664972262564.jpg
END:VEVENT
BEGIN:VEVENT
DTSTART;VALUE=DATE:20221022
DTEND;VALUE=DATE:20221023
DTSTAMP:20260421T041743
CREATED:20220311T140157Z
LAST-MODIFIED:20220311T140157Z
UID:4944-1666396800-1666483199@www.ocphs.org
SUMMARY:Downtown Pontiac Walking Ghost Tours
DESCRIPTION:
URL:https://www.ocphs.org/event/downtown-pontiac-walking-ghost-tours/
LOCATION:MI
END:VEVENT
END:VCALENDAR